BEGIN:VCALENDAR
VERSION:2.0
PRODID:-//wp-events-plugin.com//7.2.3.1//EN
TZID:Europe/Oslo
X-WR-TIMEZONE:Europe/Oslo
BEGIN:VEVENT
UID:19@xn--rettkjl-v1a.no
DTSTART;TZID=Europe/Oslo:20260613T120000
DTEND;TZID=Europe/Oslo:20260614T133000
DTSTAMP:20260308T180853Z
URL:https://www.xn--rettkjl-v1a.no/events/grunnkurs-havkajakk-i-bodo-13-14
 -juni-2026/
SUMMARY:Grunnkurs Havkajakk Bodø 13. & 14. Juni 2026
DESCRIPTION:\n\n\nOBS-Start Tid Lørdag 12.00. Søndag 10.00 - Varighet est
 imert fra 5 - til 7t per dag.\n\nPå Kurset introduseres dere til kajakk o
 g utstyr. Etter endt kurs har dere gjennom enkle praktiske øvelser lært 
 å bruke kajakk\, åre\, trekk og vest. I tillegg blir dere kjent med enkl
 e sikkerhetsrutiner\, samt hvordan effektivt manøvrere kajakken og planle
 gge kortere turer.\n&nbsp\;\nMed Rett Kjøl fär du tilgang til:\n\n 	\nDe
 n mest solide erfaringen med kajakkurs i Salten\n\n 	\nFlest kajakkmodelle
 r utenfor klubb. (kajakkene skal tilpasses padler og ikke omvendt)\n\n 	\n
 Størst spenn i kurstilbudet\n\n 	\nFlest timer i kajakken. Alle som tar G
 runnkurs/Teknikkurs hos oss\, har tilbud om gratis deltakelse pả dag 2 i
  senere kurs.\n\n 	\nRett Kjøl ledes av padleren med høyest NPF klarerin
 g i Nord Norge\, samt den med lengst total erfaring i å bidra til trygghe
 t og trivsel\, varmt og bredt forstätt.\n\n 	\nVær forberedt pả stor f
 ryd.\n\n\nKurset gir NPF's Våttkort med tilhørende oblat\n - De påmeld
 te vil få nærmere orientering om innhold i kurset\, + tips for mat og p
 åkledning.\n - Pris 2.850\,- inkluderer alt av utstyr.\n&nbsp\;\nMorro s
 kal vi også ha det:\n
ATTACH;FMTTYPE=image/jpeg:https://www.xn--rettkjl-v1a.no/wp-content/upload
 s/2025/04/FOAAQ_vA-scaled.jpg
CATEGORIES:NPF-Grunnkurs
LOCATION:Kvalvika\, Kvalvikfjæra\, Bodø\, 8012\, Norway
X-APPLE-STRUCTURED-LOCATION;VALUE=URI;X-ADDRESS=Kvalvikfjæra\, Bodø\, 801
 2\, Norway;X-APPLE-RADIUS=100;X-TITLE=Kvalvika:geo:0,0
END:VEVENT
BEGIN:VTIMEZONE
TZID:Europe/Oslo
X-LIC-LOCATION:Europe/Oslo
BEGIN:DAYLIGHT
DTSTART:20260329T030000
TZOFFSETFROM:+0100
TZOFFSETTO:+0200
TZNAME:CEST
END:DAYLIGHT
END:VTIMEZONE
END:VCALENDAR